BEGIN:VCALENDAR
VERSION:2.0
PRODID:-//M.K. Gandhi Institute for Nonviolence - ECPv6.15.20//NONSGML v1.0//EN
CALSCALE:GREGORIAN
METHOD:PUBLISH
X-WR-CALNAME:M.K. Gandhi Institute for Nonviolence
X-ORIGINAL-URL:https://gandhiinstitute.org
X-WR-CALDESC:Events for M.K. Gandhi Institute for Nonviolence
REFRESH-INTERVAL;VALUE=DURATION:PT1H
X-Robots-Tag:noindex
X-PUBLISHED-TTL:PT1H
BEGIN:VTIMEZONE
TZID:America/New_York
BEGIN:DAYLIGHT
TZOFFSETFROM:-0500
TZOFFSETTO:-0400
TZNAME:EDT
DTSTART:20250309T070000
END:DAYLIGHT
BEGIN:STANDARD
TZOFFSETFROM:-0400
TZOFFSETTO:-0500
TZNAME:EST
DTSTART:20251102T060000
END:STANDARD
BEGIN:DAYLIGHT
TZOFFSETFROM:-0500
TZOFFSETTO:-0400
TZNAME:EDT
DTSTART:20260308T070000
END:DAYLIGHT
BEGIN:STANDARD
TZOFFSETFROM:-0400
TZOFFSETTO:-0500
TZNAME:EST
DTSTART:20261101T060000
END:STANDARD
BEGIN:DAYLIGHT
TZOFFSETFROM:-0500
TZOFFSETTO:-0400
TZNAME:EDT
DTSTART:20270314T070000
END:DAYLIGHT
BEGIN:STANDARD
TZOFFSETFROM:-0400
TZOFFSETTO:-0500
TZNAME:EST
DTSTART:20271107T060000
END:STANDARD
END:VTIMEZONE
BEGIN:VEVENT
DTSTART;TZID=America/New_York:20260427T173000
DTEND;TZID=America/New_York:20260427T193000
DTSTAMP:20260423T062704
CREATED:20260413T203052Z
LAST-MODIFIED:20260413T203154Z
UID:20618-1777311000-1777318200@gandhiinstitute.org
SUMMARY:Kingian Nonviolence Series
DESCRIPTION:Register\n\nJoin us this Spring for a Kingian Nonviolence series at the Gandhi Institute (929 S. Plymouth Ave) on Mondays\, April 27 – June 1 \, from 5:30 – 7:30 PM. \nRooted in the teachings of Dr. Martin Luther King Jr.\, Kingian Nonviolence is a philosophy and practice for transforming conflict and fostering justice. Jonathon and Katie will facilitate this space over an interactive 4 weeks of exploring the core principles and real-world applications of nonviolence. \nWhether you’re new to Kingian Nonviolence or looking to deepen your understanding\, this series offers a space to learn\, reflect\, and practice together. \nKingian Nonviolence sessions will be at 5:30 PM EST on the following Mondays: \n\nApril 27\nMay 4\nMay 11\nMay 18\nJune 1 (We are skipping Monday\, May 25 for Memorial Day)\n\nOn pricing:\nWe host events on a sliding scale economy to be more accessible and prevent finances from prohibiting learning\, engagement\, and opportunity to create a better world. \nOur 3 suggested prices are $20\, $100\, and $200. \nNo one will be turned away for a lack of funds\, if you have any questions feel free to reach out to: katie@gandhiinstitute.org \nThese prices reflect the cost for the institute to plan and facilitate the 4/ 2 hour sessions. These are suggestions\, so feel free to donate another amount that might fit your situation\, and please add Kingian Nonviolence to the memo or notes. \nWe depend on our community to participate\, inform\, and partially fund our programming\, so we truly appreciate your choice to support us in a way that aligns with you.
URL:https://gandhiinstitute.org/event/kingian-nonviolence-series-2/
LOCATION:M.K. Gandhi Institute\, 929 S Plymouth Ave\, Rochester\, NY 14608\, USA\, Rochester\, NY\, 14608\, United States
CATEGORIES:Public Events
ATTACH;FMTTYPE=image/png:https://gandhiinstitute.org/wp-content/uploads/2026/04/knv.png
END:VEVENT
END:VCALENDAR