BEGIN:VCALENDAR
VERSION:2.0
PRODID:-//M.K. Gandhi Institute for Nonviolence - ECPv6.15.20//NONSGML v1.0//EN
CALSCALE:GREGORIAN
METHOD:PUBLISH
X-ORIGINAL-URL:https://gandhiinstitute.org
X-WR-CALDESC:Events for M.K. Gandhi Institute for Nonviolence
REFRESH-INTERVAL;VALUE=DURATION:PT1H
X-Robots-Tag:noindex
X-PUBLISHED-TTL:PT1H
BEGIN:VTIMEZONE
TZID:America/New_York
BEGIN:DAYLIGHT
TZOFFSETFROM:-0500
TZOFFSETTO:-0400
TZNAME:EDT
DTSTART:20250309T070000
END:DAYLIGHT
BEGIN:STANDARD
TZOFFSETFROM:-0400
TZOFFSETTO:-0500
TZNAME:EST
DTSTART:20251102T060000
END:STANDARD
BEGIN:DAYLIGHT
TZOFFSETFROM:-0500
TZOFFSETTO:-0400
TZNAME:EDT
DTSTART:20260308T070000
END:DAYLIGHT
BEGIN:STANDARD
TZOFFSETFROM:-0400
TZOFFSETTO:-0500
TZNAME:EST
DTSTART:20261101T060000
END:STANDARD
BEGIN:DAYLIGHT
TZOFFSETFROM:-0500
TZOFFSETTO:-0400
TZNAME:EDT
DTSTART:20270314T070000
END:DAYLIGHT
BEGIN:STANDARD
TZOFFSETFROM:-0400
TZOFFSETTO:-0500
TZNAME:EST
DTSTART:20271107T060000
END:STANDARD
END:VTIMEZONE
BEGIN:VEVENT
DTSTART;TZID=America/New_York:20260429T180000
DTEND;TZID=America/New_York:20260429T200000
DTSTAMP:20260423T083511
CREATED:20260420T165203Z
LAST-MODIFIED:20260420T165203Z
UID:20648-1777485600-1777492800@gandhiinstitute.org
SUMMARY:April Community Dinner
DESCRIPTION:REGISTER\nJoin us for warm food and conversations at a Community Dinner\, as we celebrate Earth Day! April Community Dinner will be co-hosted by University of Rochester’s EcoReps. \nDon’t miss the next Community Dinner on the last Wednesday of the month at 6 PM. Bring a dish if you would like to\, but don’t worry\, we’ll be cooking up a few of our own! Everyone is welcome. \nLet us know that you are bringing dishes or snacks by emailing katie@gandhiinstitute.org
URL:https://gandhiinstitute.org/event/april-community-dinner/
LOCATION:M.K. Gandhi Institute\, 929 S Plymouth Ave\, Rochester\, NY 14608\, USA\, Rochester\, NY\, 14608\, United States
CATEGORIES:Public Events
ATTACH;FMTTYPE=image/png:https://gandhiinstitute.org/wp-content/uploads/2026/04/community-dinner.png
END:VEVENT
END:VCALENDAR