BEGIN:VCALENDAR
VERSION:2.0
PRODID:-//M.K. Gandhi Institute for Nonviolence - ECPv6.15.20//NONSGML v1.0//EN
CALSCALE:GREGORIAN
METHOD:PUBLISH
X-ORIGINAL-URL:https://gandhiinstitute.org
X-WR-CALDESC:Events for M.K. Gandhi Institute for Nonviolence
REFRESH-INTERVAL;VALUE=DURATION:PT1H
X-Robots-Tag:noindex
X-PUBLISHED-TTL:PT1H
BEGIN:VTIMEZONE
TZID:America/New_York
BEGIN:DAYLIGHT
TZOFFSETFROM:-0500
TZOFFSETTO:-0400
TZNAME:EDT
DTSTART:20240310T070000
END:DAYLIGHT
BEGIN:STANDARD
TZOFFSETFROM:-0400
TZOFFSETTO:-0500
TZNAME:EST
DTSTART:20241103T060000
END:STANDARD
BEGIN:DAYLIGHT
TZOFFSETFROM:-0500
TZOFFSETTO:-0400
TZNAME:EDT
DTSTART:20250309T070000
END:DAYLIGHT
BEGIN:STANDARD
TZOFFSETFROM:-0400
TZOFFSETTO:-0500
TZNAME:EST
DTSTART:20251102T060000
END:STANDARD
BEGIN:DAYLIGHT
TZOFFSETFROM:-0500
TZOFFSETTO:-0400
TZNAME:EDT
DTSTART:20260308T070000
END:DAYLIGHT
BEGIN:STANDARD
TZOFFSETFROM:-0400
TZOFFSETTO:-0500
TZNAME:EST
DTSTART:20261101T060000
END:STANDARD
END:VTIMEZONE
BEGIN:VEVENT
DTSTART;TZID=America/New_York:20251002T160000
DTEND;TZID=America/New_York:20251002T170000
DTSTAMP:20260423T143143
CREATED:20250908T164557Z
LAST-MODIFIED:20250908T182849Z
UID:19863-1759420800-1759424400@gandhiinstitute.org
SUMMARY:Online Grief Circles (October 2)
DESCRIPTION:Click here to register for Online Grief Circles. \nJoin the Circle. Our online grief circle is a biweekly gathering to honor the pain and sorrow that comes from living in a complicated world. It is a place for listening and presence\, not for advice or judgment.\nEvery kind of grief\, big or small\, is welcome. Whether it’s sorrow from personal loss\, burnout from the work you do\, or a heavy heart for the state of the world\, all of your grief is welcome here. \nAs Joanna Macy reminds us\, “The most important thing to do is to be with your pain\, and not to deny it. In doing that\, you’re not alone.” \nWe’ll meet (mostly) biweekly on Thursdays\, from 4-5 pm ET on Zoom between September 18th and January 29th\, 2026. You can check out the specific Grief Circle dates below. \nUpcoming Dates:  \n\nSept. 18\nOct. 2\, 16\, & 30\nNov. 13\nDec. 4 & 18\nJan. 1\, 15
URL:https://gandhiinstitute.org/event/online-grief-circles-october-2/
LOCATION:NY
CATEGORIES:Public Events
END:VEVENT
BEGIN:VEVENT
DTSTART;TZID=America/New_York:20251016T160000
DTEND;TZID=America/New_York:20251016T170000
DTSTAMP:20260423T143143
CREATED:20250908T163746Z
LAST-MODIFIED:20250908T183347Z
UID:19861-1760630400-1760634000@gandhiinstitute.org
SUMMARY:Online Grief Circles (October 16)
DESCRIPTION:Click here to register for Online Grief Circles. \nJoin the Circle. Our online grief circle is a biweekly gathering to honor the pain and sorrow that comes from living in a complicated world. It is a place for listening and presence\, not for advice or judgment.\nEvery kind of grief\, big or small\, is welcome. Whether it’s sorrow from personal loss\, burnout from the work you do\, or a heavy heart for the state of the world\, all of your grief is welcome here. \nAs Joanna Macy reminds us\, “The most important thing to do is to be with your pain\, and not to deny it. In doing that\, you’re not alone.” \nWe’ll meet (mostly) biweekly on Thursdays\, from 4-5 pm ET on Zoom between September 18th and January 29th\, 2026. You can check out the specific Grief Circle dates below. \nUpcoming Dates:  \n\nSept. 18\nOct. 2\, 16\, & 30\nNov. 13\nDec. 4 & 18\nJan. 1\, 15
URL:https://gandhiinstitute.org/event/online-grief-circles-october-16/
LOCATION:NY
CATEGORIES:Public Events
END:VEVENT
BEGIN:VEVENT
DTSTART;TZID=America/New_York:20251018T110000
DTEND;TZID=America/New_York:20251018T110000
DTSTAMP:20260423T143143
CREATED:20251014T143214Z
LAST-MODIFIED:20251014T143506Z
UID:20010-1760785200-1760785200@gandhiinstitute.org
SUMMARY:October Community Roundtable
DESCRIPTION:Click HERE to register to join!\nThe October Community Roundtable will be on Saturday\, October 18 at 11 AM. We will chat about community issues that are on our hearts and minds. \nIn a time when online echo chambers deepen division and disconnection\, coming together face-to-face is more important than ever. The Community Roundtables offer a space to share perspectives\, make sense of what’s happening in the world\, and remain connected to one another. \nThis series will be at the Gandhi Institute on the third Saturday of each month at 11 AM – 1 PM EST. \nEach session will focus on open dialogue or specific topics that matter to the Rochester community—some selected by Gandhi Institute staff and others chosen by participants based on pressing issues and events. Through open conversation\, we cultivate understanding and plant the seeds for collective action—whether by strengthening existing efforts or inspiring new initiatives. Join us as we listen\, reflect\, and build a more connected community.
URL:https://gandhiinstitute.org/event/october-community-roundtable/
LOCATION:M.K. Gandhi Institute\, 929 S Plymouth Ave\, Rochester\, NY 14608\, USA\, Rochester\, NY\, 14608\, United States
CATEGORIES:Public Events
END:VEVENT
BEGIN:VEVENT
DTSTART;TZID=America/New_York:20251020T180000
DTEND;TZID=America/New_York:20251020T200000
DTSTAMP:20260423T143143
CREATED:20250827T183301Z
LAST-MODIFIED:20250827T183457Z
UID:19837-1760983200-1760990400@gandhiinstitute.org
SUMMARY:Community Dinner and Dialogue with Professor Alexandra Oprea
DESCRIPTION:Share warm food and conversation at our October Community Dinner\nRVSP to join us here!\nThis month’s dinner will be co-hosted by Monroe Community College and special guest Professor Alexandra Oprea from the University at Buffalo’s Philosophy\, Politics\, and Economics program. Professor Oprea will be delivering the MCC McMurry Lecture\, How to Be a Good Democratic Citizen\, earlier in the day\, and we’ll carry the conversation forward together over a shared meal. \nDinner & dialogue will be on Monday\, October 20 at 6:00 PM at 929 S. Plymouth Ave. Bring a dish if you’d like to contribute\, but don’t worry—we’ll have plenty of food prepared to share. \nEveryone is welcome. Registration helps us prepare food and space—please sign up using the link in our bio. If you’d like to bring a dish or snack\, let us know at katie@gandhiinstitute.org
URL:https://gandhiinstitute.org/event/community-dinner-and-dialogue-with-professor-alexandra-oprea/
LOCATION:M.K. Gandhi Institute\, 929 S Plymouth Ave\, Rochester\, NY 14608\, USA\, Rochester\, NY\, 14608\, United States
CATEGORIES:Public Events
END:VEVENT
BEGIN:VEVENT
DTSTART;TZID=America/New_York:20251023T173000
DTEND;TZID=America/New_York:20251023T193000
DTSTAMP:20260423T143143
CREATED:20250916T233254Z
LAST-MODIFIED:20251020T212138Z
UID:19891-1761240600-1761247800@gandhiinstitute.org
SUMMARY:Embodying Nonviolent Communication
DESCRIPTION:Click HERE to register to join Embodying Nonviolent Communication!\nIn a time when meaningful connection can feel both vital and difficult\, Nonviolent Communication offers a pathway to engage with ourselves and others with more clarity\, compassion\, and courage. Over 5-weeks\, join us for Embodying Nonviolent Communication on Thursdays\, from October 23 – November 20 from 5:30 – 7:30 pm EST. \nTogether\, we will explore Nonviolent Communication through thought\, speech\, and embodied practices to deepen connection and strengthen our capacity to build communities where everyone can thrive. \nQuestions? Email katie@gandhiinstitute.org
URL:https://gandhiinstitute.org/event/embodying-nonviolent-communication-4/
LOCATION:NY
END:VEVENT
BEGIN:VEVENT
DTSTART;TZID=America/New_York:20251025T150000
DTEND;TZID=America/New_York:20251025T180000
DTSTAMP:20260423T143143
CREATED:20250917T000823Z
LAST-MODIFIED:20250917T000823Z
UID:19903-1761404400-1761415200@gandhiinstitute.org
SUMMARY:October De-escalation Workshop
DESCRIPTION:Click HERE to register to join!\nCome practice skills to reduce violence and help keep each other safe! \nJoin us on Saturday\, October 25th for a workshop for transforming conflict and de-escalating tense situations. Participants will work collaboratively to respond to conflict in ways that enable and promote safe outcomes. \nWe welcome all community members to register! The Gandhi Institute often hosts events on a sliding scale economy to be more accessible and prevent finances from prohibiting learning\, engagement\, and opportunity to create a better world. We depend on our community to participate\, inform\, and partially fund our programming\, so we truly appreciate your choice to support us in a way that aligns with you. \nQuestions? Email jonathon@gandhiinstitute.org
URL:https://gandhiinstitute.org/event/october-de-escalation-workshop/
LOCATION:NY
CATEGORIES:Public Events
END:VEVENT
BEGIN:VEVENT
DTSTART;TZID=America/New_York:20251030T160000
DTEND;TZID=America/New_York:20251030T170000
DTSTAMP:20260423T143143
CREATED:20250908T184024Z
LAST-MODIFIED:20250908T184024Z
UID:19871-1761840000-1761843600@gandhiinstitute.org
SUMMARY:Online Grief Circles (October 30)
DESCRIPTION:Click here to register for Online Grief Circles. \nJoin the Circle. Our online grief circle is a biweekly gathering to honor the pain and sorrow that comes from living in a complicated world. It is a place for listening and presence\, not for advice or judgment.\nEvery kind of grief\, big or small\, is welcome. Whether it’s sorrow from personal loss\, burnout from the work you do\, or a heavy heart for the state of the world\, all of your grief is welcome here. \nAs Joanna Macy reminds us\, “The most important thing to do is to be with your pain\, and not to deny it. In doing that\, you’re not alone.” \nWe’ll meet (mostly) biweekly on Thursdays\, from 4-5 pm ET on Zoom between September 18th and January 29th\, 2026. You can check out the specific Grief Circle dates below. \nUpcoming Dates:  \n\nOct. 30\nNov. 13\nDec. 4 & 18\nJan. 1\, 15
URL:https://gandhiinstitute.org/event/online-grief-circles-october-30/
LOCATION:NY
CATEGORIES:Public Events
END:VEVENT
END:VCALENDAR