BEGIN:VCALENDAR
VERSION:2.0
PRODID:-//M.K. Gandhi Institute for Nonviolence - ECPv6.15.20//NONSGML v1.0//EN
CALSCALE:GREGORIAN
METHOD:PUBLISH
X-WR-CALNAME:M.K. Gandhi Institute for Nonviolence
X-ORIGINAL-URL:https://gandhiinstitute.org
X-WR-CALDESC:Events for M.K. Gandhi Institute for Nonviolence
REFRESH-INTERVAL;VALUE=DURATION:PT1H
X-Robots-Tag:noindex
X-PUBLISHED-TTL:PT1H
BEGIN:VTIMEZONE
TZID:America/New_York
BEGIN:DAYLIGHT
TZOFFSETFROM:-0500
TZOFFSETTO:-0400
TZNAME:EDT
DTSTART:20240310T070000
END:DAYLIGHT
BEGIN:STANDARD
TZOFFSETFROM:-0400
TZOFFSETTO:-0500
TZNAME:EST
DTSTART:20241103T060000
END:STANDARD
BEGIN:DAYLIGHT
TZOFFSETFROM:-0500
TZOFFSETTO:-0400
TZNAME:EDT
DTSTART:20250309T070000
END:DAYLIGHT
BEGIN:STANDARD
TZOFFSETFROM:-0400
TZOFFSETTO:-0500
TZNAME:EST
DTSTART:20251102T060000
END:STANDARD
BEGIN:DAYLIGHT
TZOFFSETFROM:-0500
TZOFFSETTO:-0400
TZNAME:EDT
DTSTART:20260308T070000
END:DAYLIGHT
BEGIN:STANDARD
TZOFFSETFROM:-0400
TZOFFSETTO:-0500
TZNAME:EST
DTSTART:20261101T060000
END:STANDARD
END:VTIMEZONE
BEGIN:VEVENT
DTSTART;TZID=America/New_York:20251113T160000
DTEND;TZID=America/New_York:20251113T170000
DTSTAMP:20260423T161621
CREATED:20250908T184243Z
LAST-MODIFIED:20251110T165339Z
UID:19874-1763049600-1763053200@gandhiinstitute.org
SUMMARY:Online Grief Circles (November 13)
DESCRIPTION:Click here to register for Online Grief Circles. \nJoin the Circle. Our online grief circle is a biweekly gathering to honor the pain and sorrow that comes from living in a complicated world. It is a place for listening and presence\, not for advice or judgment.\n\nEvery kind of grief\, big or small\, is welcome. Whether it’s sorrow from personal loss\, burnout from the work you do\, or a heavy heart for the state of the world\, all of your grief is welcome here.\nAs Joanna Macy reminds us\, “The most important thing to do is to be with your pain\, and not to deny it. In doing that\, you’re not alone.”\nWe’ll meet (mostly) biweekly on Thursdays\, from 4-5 pm ET on Zoom between September 18th and January 29th\, 2026. You can check out the specific Grief Circle dates below.\nUpcoming Dates: \n\n\nNov. 13\n\n\nDec. 4 & 18\n\n\nJan. 1\, 15
URL:https://gandhiinstitute.org/event/online-grief-circles-november-13/
LOCATION:NY
CATEGORIES:Public Events
END:VEVENT
BEGIN:VEVENT
DTSTART;TZID=America/New_York:20251115T110000
DTEND;TZID=America/New_York:20251115T130000
DTSTAMP:20260423T161621
CREATED:20251110T162113Z
LAST-MODIFIED:20251110T165028Z
UID:20062-1763204400-1763211600@gandhiinstitute.org
SUMMARY:November Community Roundtable
DESCRIPTION:Click here to register for the November Roundtable! \nThe November Community Roundtable will be on Saturday\, November 15 at 11 AM. We will chat about community issues that are on our hearts and minds.\n\nAbout the Series: \nIn a time when online echo chambers deepen division and disconnection\, coming together face-to-face is more important than ever. The Community Roundtables offer a space to share perspectives\, make sense of what’s happening in the world\, and remain connected to one another.\nThis series will be at the Gandhi Institute on the third Saturday of each month at 11 AM – 1 PM EST.\nEach session will focus on open dialogue or specific topics that matter to the Rochester community—some selected by Gandhi Institute staff and others chosen by participants based on pressing issues and events. Through open conversation\, we cultivate understanding and plant the seeds for collective action—whether by strengthening existing efforts or inspiring new initiatives. Join us as we listen\, reflect\, and build a more connected community.
URL:https://gandhiinstitute.org/event/november-community-roundtable/
LOCATION:M.K. Gandhi Institute\, 929 S Plymouth Ave\, Rochester\, NY 14608\, USA\, Rochester\, NY\, 14608\, United States
CATEGORIES:Public Events
END:VEVENT
BEGIN:VEVENT
DTSTART;TZID=America/New_York:20251117T180000
DTEND;TZID=America/New_York:20251117T200000
DTSTAMP:20260423T161621
CREATED:20251110T155929Z
LAST-MODIFIED:20251110T165443Z
UID:20056-1763402400-1763409600@gandhiinstitute.org
SUMMARY:Friendsgiving Dinner (November Community Dinner)
DESCRIPTION: \nClick here to RSVP for Friendsgiving!\nDon’t miss the our last Community Dinner of 2025\, our November Friendsgiving Dinner! Friendsgiving will be at the Gandhi Institute on Monday\, November 17 at 6 PM. Bring a dish if you would like to\, but don’t worry\, we’ll be cooking up a few of our own! Everyone is welcome.\nYou can register to join using the link in our bio! Registering ahead helps us to better prepare the amount of food and seating. Let us know that you are bringing dishes or snacks by emailing katie@gandhiinstitute.org
URL:https://gandhiinstitute.org/event/friendsgiving-dinner/
LOCATION:M.K. Gandhi Institute\, 929 S Plymouth Ave\, Rochester\, NY 14608\, USA\, Rochester\, NY\, 14608\, United States
CATEGORIES:Public Events
END:VEVENT
END:VCALENDAR